<PRE>
BEGIN:VCALENDARs
VERSION:2.0
PRODID:https://www.badrappenau.de/stadtleben/veranstaltungen/2026-04-2-maibaumfest-in-bonfeld-8751
METHOD:PUBLISH
BEGIN:VEVENT
UID:
ORGANIZER;CN="":MAILTO:
LOCATION: Ortsmitte Bonfeld beim Landmarkt
SUMMARY:2. Maibaumfest in Bonfeld
DESCRIPTION:<p>Es wirken mit:&nbsp;Musikverein Bonfeld, Singklasse der Grundschule Bonfeld</p>
<p>Aktionstisch für Kinder, Bürgeraktion: Baum der Wünsche</p>   link:  https://www.badrappenau.de/stadtleben/veranstaltungen/2026-04-2-maibaumfest-in-bonfeld-8751
CLASS:PUBLIC
DTSTART:2026-04-30T18:00:00+0000
DTEND:2026-04-30T21:00:00+0000
DTSTAMP:2026-04-25T23:40:05+0000
END:VEVENT
END:VCALENDAR
</PRE>
