<PRE>
BEGIN:VCALENDARs
VERSION:2.0
PRODID:https://www.badrappenau.de/stadtleben/veranstaltungen/2026-04-gds-vortrag-verlaessliche-stauden-fuer-langlebige-pflanzungen-8719
METHOD:PUBLISH
BEGIN:VEVENT
UID:
ORGANIZER;CN="":MAILTO:
LOCATION: Gasthof Häffner Bräu Bad Rappenau
SUMMARY:GdS-Vortrag: „Verlässliche Stauden für langlebige Pflanzungen“
DESCRIPTION:<p>Zum letzten Vortrag in diesem Jahr freuen wir uns Herrn Professor Dr. Bernd Hertle&nbsp;als Gastredner ankündigen zu dürfen.</p>
<p>Als Gartenbauwissenschaftler, Lehrer an der Hochschule Weihenstephan-Triesdorf,&nbsp;Autor, ehemaliger Leiter der Weihenstephaner Gärten und als langjähriger Vorsitzender des&nbsp;Arbeitskreises Staudensichtung verfügt er über einen reichen Erfahrungsschatz.</p>
<p>Herzlich eingeladen sind alle interessierten Pflanzen- und Gartenfreunde.</p>
<p>Veranstalter ist die Regionalgruppe Heidelberg/Kraichgau/Neckartal der Gesellschaft&nbsp;der Staudenfreunde e.V.</p>
<p><br />Termin 25.4.2026, Beginn 15 Uhr.</p>
<p>Damit alle den Vortrag störungsfrei genießen können, werden Kaffeegäste gebeten entsprechend früher zu kommen.</p>
<p>Ort: Hotel Häffner, 74906 Bad Rappenau, Salinenstraße 24</p>
<p>Kosten: Für Mitglieder 5 Euro, Nichtmitglieder 7 Euro</p>   link:  https://www.badrappenau.de/stadtleben/veranstaltungen/2026-04-gds-vortrag-verlaessliche-stauden-fuer-langlebige-pflanzungen-8719
CLASS:PUBLIC
DTSTART:2026-04-25T15:30:00+0000
DTEND:2026-04-25T17:00:00+0000
DTSTAMP:2026-04-20T23:38:26+0000
END:VEVENT
END:VCALENDAR
</PRE>
