<PRE>
BEGIN:VCALENDARs
VERSION:2.0
PRODID:https://www.badrappenau.de/stadtleben/veranstaltungen/2026-04-maibaumfest-in-babstadt-8748
METHOD:PUBLISH
BEGIN:VEVENT
UID:
ORGANIZER;CN="":MAILTO:
LOCATION: Beim Schloss in Babstadt
SUMMARY:Maibaumfest in Babstadt
DESCRIPTION:   link:  https://www.badrappenau.de/stadtleben/veranstaltungen/2026-04-maibaumfest-in-babstadt-8748
CLASS:PUBLIC
DTSTART:2026-04-30T17:30:00+0000
DTEND:2026-04-30T00:00:00+0000
DTSTAMP:2026-04-25T23:40:05+0000
END:VEVENT
END:VCALENDAR
</PRE>
