<PRE>
BEGIN:VCALENDARs
VERSION:2.0
PRODID:https://www.badrappenau.de/stadtleben/veranstaltungen/2026-04-star-wars-day-in-der-stadtbuecherei-8721
METHOD:PUBLISH
BEGIN:VEVENT
UID:
ORGANIZER;CN="":MAILTO:
LOCATION: Stadtbücherei Bad Rappenau
SUMMARY:Star Wars Reads Day in der Stadtbücherei
DESCRIPTION:<p><span>Sternenkrieger sind auf dem Bücherei-Stern gelandet! Am Samstag, 25.04.2026 findet von 10.00 Uhr bis 13.00 Uhr in der Stadt- und Kurbücherei Bad Rappenau der Star Wars Reads Day statt, bei dem sich in der Bücherei alles um „Star Wars“ dreht.</span></p>
<p><span>Im Rahmen einer Schnitzeljagd können die Teilnehmenden ein kostbares Lichtschwert finden, das in der Bücherei in Sicherheit gebracht wurde. Außerdem gibt es einen Basteltisch für Lichtschwerter aus Pappe und es liegen thematische Ausmalbilder bereit. Als besonderes Highlight sind Star Wars Cosplayer der 501st Legion vor Ort, die als bekannte Charaktere des Star Wars Universums durch die Bücherei streifen.</span></p>
<p><span>Der Eintritt ist frei. Die Mitmachangebote sind kostenlos. Eine Anmeldung ist nicht erforderlich. </span></p>   link:  https://www.badrappenau.de/stadtleben/veranstaltungen/2026-04-star-wars-day-in-der-stadtbuecherei-8721
CLASS:PUBLIC
DTSTART:2026-04-25T10:00:00+0000
DTEND:2026-04-25T13:00:00+0000
DTSTAMP:2026-04-20T00:03:59+0000
END:VEVENT
END:VCALENDAR
</PRE>
