<PRE>
BEGIN:VCALENDARs
VERSION:2.0
PRODID:https://www.badrappenau.de/stadtleben/veranstaltungen/2026-08-der-weg-des-wassers-fuehrung-8426
METHOD:PUBLISH
BEGIN:VEVENT
UID:
ORGANIZER;CN="":MAILTO:
LOCATION: Treffpunkt: Kurhaus Haupteingang
SUMMARY:Der Weg des Wassers - Führung
DESCRIPTION:   link:  https://www.badrappenau.de/stadtleben/veranstaltungen/2026-08-der-weg-des-wassers-fuehrung-8426
CLASS:PUBLIC
DTSTART:2026-08-15T08:45:00+0000
DTEND:2026-08-15T11:30:00+0000
DTSTAMP:2026-04-21T18:17:20+0000
END:VEVENT
END:VCALENDAR
</PRE>
